Workbook

Sheet SUMMARY
A1: Annexure - I
A2: Format of holding of specified securities
A3: 1. | B3: Name of Listed Entity: | J3: RELIABLE DATA SERVICES LTD
A4: 2. | B4: Scrip Code/Name of Scrip/Class of Security
A5: 3. | B5: Share Holding Pattern Filed under: Reg. 31(1)(a)/Reg. 31(1)(b)/Reg.31(1)(c)
B6: a. | C6: If under 31(1)(b) then indicate the report for Quarter ending | J6: 30/09/2021
B7: b. | C7: If under 31(1)(c) then indicate date of allotment/extinguishment
A8: 4. | B8: Declaration: The Listed entity is required to submit the following declaration to the extent of submission of information:-
C10: Particulars | J10: Yes* | K10: No*
B11: 1. | C11: Whether the Listed Entity has issued any partly paid up shares? | K11: No
B12: 2. | C12: Whether the Listed Entity has issued any Convertible Securities or Warrants? | K12: No
B13: 3. | C13: Whether the Listed Entity has any shares against which depository receipts are issued? | K13: No
B14: 4. | C14: Whether the Listed Entity has any shares in locked-in? | K14: No
B15: 5. | C15: Whether any shares held by promoters are pledge or otherwise encumbered? | K15: No
B17: * If the Listed Entity selects the option ‘No’ for the questions above, the columns for the partly paid up shares, Outstanding Convertible Securities/Warrants, depository receipts, locked-in shares, No of shares pledged or otherwise encumbered by promoters, as applicable, shall not be displayed at the time of dissemination on the Stock Exchange website. Also wherever there is ‘No’ declared by Listed Entity in above table the values will be considered as ‘Zero’ by default on submission of the format of holding of specified securities.
A19: 5. | B19: The tabular format for disclosure of holding of specified securities is as follows:-

Sheet Table I
A1: Table I - Summary Statement holding of specified securities
A2: Category | B2: Category of shareholder | C2: Nos. of shareh olders | D2: No. of fully paid up equity shares held | E2: No. of Partly paid-up equity shares held | F2: No. of shares underlying Depository Receipts | G2: Total nos. shares held | H2: Shareholding as a % of total no. of shares (calculated as per SCRR, 1957) As a % of (A+B+C2) | I2: Number of Voting Rights held in each class of securities | M2: No. of Shares Underlying Outstanding convertible securities (including Warrants) | N2: Shareholding , as a % assuming full conversion of convertible securities ( as a percentage of diluted share capital) As a % of (A+B+C2) | O2: Number of Locked in shares | Q2: Number of Shares pledged or otherwise encumbered | S2: Number of equity shares held in dematerialized form
I3: No of Voting Rights | L3: Total as a % of (A+B+C) | O3: No. (a) | P3: As a % of total Shares held (b) | Q3: No. (a) | R3: As a % of total Shares held (b)
I4: Class:Equity | J4: Classeg:y | K4: Total
A5: (I) | B5: (II) | C5: (III) | D5: (IV) | E5: (V) | F5: (VI) | G5: (VII)=(IV)+(V)+ (VI) | H5: (VIII) | I5: (IX) | M5: (X) | N5: (XI)= (VII)+(X) | O5: (XII) | Q5: (XIII) | S5: (XIV)
A6: (A) | B6: Promoter & Promoter Group | C6: 10 | D6: 7406400 | E6: 0 | G6: =SUM(D6:F6) -> 7406400 | H6: =(G6/(G11-G9))*100 -> 71.767442 | I6: 7406400 | K6: =(I6+J6) -> 7406400 | L6: =(K6/K11)*100 -> 71.767442 | M6: 0 | N6: =(G6+M6)/(G11+M11-G9)*100 -> 71.767442 | O6: 0 | Q6: 0 | S6: 7406400
A7: (B) | B7: Public | C7: 209 | D7: 2913600 | E7: 0 | G7: =SUM(D7:F7) -> 2913600 | H7: =(G7/(G11-G9))*100 -> 28.232558 | I7: 2913600 | K7: =(I7+J7) -> 2913600 | L7: =(K7/K11)*100 -> 28.232558 | M7: 0 | N7: =(G7+M7)/(G11+M11-G9)*100 -> 28.232558 | O7: 0 | Q7: 0 | S7: 2913599
A8: (C) | B8: Non Promoter- Non Public | G8: =SUM(D8:F8) -> 0
A9: (C1) | B9: Shares underlying DRs | C9: 0 | F9: 0 | G9: =SUM(D9:F9) -> 0 | I9: 0 | K9: =(I9+J9) -> 0 | L9: =(K9/K11)*100 -> 0 | O9: 0 | Q9: 0 | S9: 0
A10: (C2) | B10: Shares held by Employee Trusts | C10: 0 | D10: 0 | E10: 0 | G10: =SUM(D10:F10) -> 0 | H10: =(G10/(G11-G9))*100 -> 0 | I10: 0 | K10: =(I10+J10) -> 0 | L10: =(K10/K11)*100 -> 0 | M10: 0 | N10: =(G10+M10)/(G11+M11-G9)*100 -> 0 | O10: 0 | Q10: 0 | S10: 0
B11: Total | C11: =SUM(C6:C10) -> 219 | D11: =SUM(D6:D10) -> 10320000 | E11: =SUM(E6:E10) -> 0 | F11: =SUM(F6:F10) -> 0 | G11: =SUM(G6:G10) -> 10320000 | H11: =SUM(H6:H10) -> 100 | I11: =SUM(I6:I10) -> 10320000 | J11: =SUM(J6:J10) -> 0 | ... S11: =SUM(S6:S10) -> 10319999

Sheet Table II
A1: Table II - Statement showing shareholding pattern of the Promoter and Promoter Group
C2: Category & Name of the Shareholders | D2: Entity type i.e. promoter OR promoter group entity (except promotor) | E2: PAN | F2: No. of shareholder | G2: No. of fully paid up equity shares held | H2: Partly paid-up equity shares held | I2: Nos. of shares underlying Depository Receipts | J2: Total nos. shares held | K2: Shareholding % calculated as per SCRR, 1957 As a % of (A+B+C2) | L2: Number of Voting Rights held in each class of securities | P2: No. of Shares Underlying Outstanding convertible securities (including Warrants) | Q2: Shareholding , as a % assuming full conversion of convertible securities (as a percentage of diluted share capital) as a % of A+B+C2 | R2: Number of Locked in shares | T2: Number of Shares pledged or otherwise encumbered | V2: Number of equity shares held in dematerializ ed form
L3: No of Voting Rights | O3: Total as a % of Total Voting rights | R3: No. (a) | S3: As a % of total Shares held (b) | T3: No. (a) | U3: As a % of total share s held (b)
L4: Class X | M4: Class Y | N4: Total
C5: (I) | E5: (II) | F5: (III) | G5: (IV) | H5: (V) | I5: (VI) | J5: (VII)=(IV)+(V)+(VI) | K5: (VIII) | L5: (IX) | P5: (X) | Q5: (XI)= (VII)+(X) | R5: (XII) | T5: (XIII) | V5: (XIV)
A6: 1 | C6: Indian
B7: (a) | C7: Individual/Hindu Undivided Family | F7: 10 | G7: =SUM(G8:G17) -> 7406400 | H7: =SUM(H8:H17) -> 0 | I7: =SUM(I8:I17) -> 0 | J7: =G7+H7+I7 -> 7406400 | K7: =(J7/('Table I'!G11-'Table I'!G9)*100) -> 71.767442 | L7: =SUM(L8:L17) -> 7406400 | M7: =SUM(M8:M17) -> 0 | N7: =L7+M7 -> 7406400 | O7: =(N7)/'Table I'!K11*100 -> 71.767442 | P7: =SUM(P8:P17) -> 0 | Q7: =(P7+J7)/(P29+'Table I'!G11-'Table I'!G9)*100 -> 71.767442 | R7: =SUM(R8:R17) -> 0 | S7: =(R7)/'Table I'!G6*100 -> 0 | T7: =SUM(T8:T17) -> 0 | U7: =(T7)/'Table I'!G6*100 -> 0 | V7: =SUM(V8:V17) -> 7406400
C8: SANJAY KUMAR PATHAK | E8: AANPP1285F | G8: 1634364 | H8: 0 | J8: =G8+H8+I8 -> 1634364 | K8: =(J8/('Table I'!G11-'Table I'!G9)*100) -> 15.83686 | L8: 1634364 | N8: =L8+M8 -> 1634364 | O8: =(N8)/'Table I'!K11*100 -> 15.83686 | P8: 0 | Q8: =(P8+J8)/(P29+'Table I'!G11-'Table I'!G9)*100 -> 15.83686 | R8: 0 | S8: =(R8)/'Table I'!G6*100 -> 0 | T8: 0 | U8: =(T8)/'Table I'!G6*100 -> 0 | V8: 1634364
C9: RAKESH JHA | E9: ADKPJ6675K | G9: 1601964 | H9: 0 | J9: =G9+H9+I9 -> 1601964 | K9: =(J9/('Table I'!G11-'Table I'!G9)*100) -> 15.522907 | L9: 1601964 | N9: =L9+M9 -> 1601964 | O9: =(N9)/'Table I'!K11*100 -> 15.522907 | P9: 0 | Q9: =(P9+J9)/(P29+'Table I'!G11-'Table I'!G9)*100 -> 15.522907 | R9: 0 | S9: =(R9)/'Table I'!G6*100 -> 0 | T9: 0 | U9: =(T9)/'Table I'!G6*100 -> 0 | V9: 1601964
C10: SUNIL KUMAR RAI | E10: ACQPR1035A | G10: 1429164 | H10: 0 | J10: =G10+H10+I10 -> 1429164 | K10: =(J10/('Table I'!G11-'Table I'!G9)*100) -> 13.848488 | L10: 1429164 | N10: =L10+M10 -> 1429164 | O10: =(N10)/'Table I'!K11*100 -> 13.848488 | P10: 0 | Q10: =(P10+J10)/(P29+'Table I'!G11-'Table I'!G9)*100 -> 13.848488 | R10: 0 | S10: =(R10)/'Table I'!G6*100 -> 0 | T10: 0 | U10: =(T10)/'Table I'!G6*100 -> 0 | V10: 1429164
C11: SANDEEP KUMAR JHA | E11: ACUPJ8123D | G11: 1349964 | H11: 0 | J11: =G11+H11+I11 -> 1349964 | K11: =(J11/('Table I'!G11-'Table I'!G9)*100) -> 13.081047 | L11: 1349964 | N11: =L11+M11 -> 1349964 | O11: =(N11)/'Table I'!K11*100 -> 13.081047 | P11: 0 | Q11: =(P11+J11)/(P29+'Table I'!G11-'Table I'!G9)*100 -> 13.081047 | R11: 0 | S11: =(R11)/'Table I'!G6*100 -> 0 | T11: 0 | U11: =(T11)/'Table I'!G6*100 -> 0 | V11: 1349964
C12: ANIL KUMAR JHA | E12: AGCPJ8322J | G12: 1184400 | H12: 0 | J12: =G12+H12+I12 -> 1184400 | K12: =(J12/('Table I'!G11-'Table I'!G9)*100) -> 11.476744 | L12: 1184400 | N12: =L12+M12 -> 1184400 | O12: =(N12)/'Table I'!K11*100 -> 11.476744 | P12: 0 | Q12: =(P12+J12)/(P29+'Table I'!G11-'Table I'!G9)*100 -> 11.476744 | R12: 0 | S12: =(R12)/'Table I'!G6*100 -> 0 | T12: 0 | U12: =(T12)/'Table I'!G6*100 -> 0 | V12: 1184400
C13: MEENAKSHI PATHAK | E13: AHBPP1179K | G13: 60036 | H13: 0 | J13: =G13+H13+I13 -> 60036 | K13: =(J13/('Table I'!G11-'Table I'!G9)*100) -> 0.58174419 | L13: 60036 | N13: =L13+M13 -> 60036 | O13: =(N13)/'Table I'!K11*100 -> 0.58174419 | P13: 0 | Q13: =(P13+J13)/(P29+'Table I'!G11-'Table I'!G9)*100 -> 0.58174419 | R13: 0 | S13: =(R13)/'Table I'!G6*100 -> 0 | T13: 0 | U13: =(T13)/'Table I'!G6*100 -> 0 | V13: 60036
C14: MEENU RAI | E14: ALAPR0461R | G14: 57636 | H14: 0 | J14: =G14+H14+I14 -> 57636 | K14: =(J14/('Table I'!G11-'Table I'!G9)*100) -> 0.55848837 | L14: 57636 | N14: =L14+M14 -> 57636 | O14: =(N14)/'Table I'!K11*100 -> 0.55848837 | P14: 0 | Q14: =(P14+J14)/(P29+'Table I'!G11-'Table I'!G9)*100 -> 0.55848837 | R14: 0 | S14: =(R14)/'Table I'!G6*100 -> 0 | T14: 0 | U14: =(T14)/'Table I'!G6*100 -> 0 | V14: 57636
C15: SRISHTI JHA | E15: AIDPJ1525E | G15: 38436 | H15: 0 | J15: =G15+H15+I15 -> 38436 | K15: =(J15/('Table I'!G11-'Table I'!G9)*100) -> 0.37244186 | L15: 38436 | N15: =L15+M15 -> 38436 | O15: =(N15)/'Table I'!K11*100 -> 0.37244186 | P15: 0 | Q15: =(P15+J15)/(P29+'Table I'!G11-'Table I'!G9)*100 -> 0.37244186 | R15: 0 | S15: =(R15)/'Table I'!G6*100 -> 0 | T15: 0 | U15: =(T15)/'Table I'!G6*100 -> 0 | V15: 38436
C16: ANSHU JHA | E16: AHLPJ9925F | G16: 26436 | H16: 0 | J16: =G16+H16+I16 -> 26436 | K16: =(J16/('Table I'!G11-'Table I'!G9)*100) -> 0.25616279 | L16: 26436 | N16: =L16+M16 -> 26436 | O16: =(N16)/'Table I'!K11*100 -> 0.25616279 | P16: 0 | Q16: =(P16+J16)/(P29+'Table I'!G11-'Table I'!G9)*100 -> 0.25616279 | R16: 0 | S16: =(R16)/'Table I'!G6*100 -> 0 | T16: 0 | U16: =(T16)/'Table I'!G6*100 -> 0 | V16: 26436
C17: RAVI ANAND JHA | E17: AZNPJ9584E | G17: 24000 | H17: 0 | J17: =G17+H17+I17 -> 24000 | K17: =(J17/('Table I'!G11-'Table I'!G9)*100) -> 0.23255814 | L17: 24000 | N17: =L17+M17 -> 24000 | O17: =(N17)/'Table I'!K11*100 -> 0.23255814 | P17: 0 | Q17: =(P17+J17)/(P29+'Table I'!G11-'Table I'!G9)*100 -> 0.23255814 | R17: 0 | S17: =(R17)/'Table I'!G6*100 -> 0 | T17: 0 | U17: =(T17)/'Table I'!G6*100 -> 0 | V17: 24000
B18: (b) | C18: Central Government/State Government(s) | F18: 0 | G18: 0 | H18: 0 | I18: 0 | J18: =G18+H18+I18 -> 0 | K18: =(J18/('Table I'!G11-'Table I'!G9)*100) -> 0 | L18: 0 | M18: 0 | N18: =L18+M18 -> 0 | O18: =(N18)/'Table I'!K11*100 -> 0 | P18: 0 | Q18: =(P18+J18)/(P29+'Table I'!G11-'Table I'!G9)*100 -> 0 | R18: 0 | S18: 0 | T18: 0 | U18: 0 | V18: 0
B19: (c) | C19: Financial Institutions/Banks | F19: 0 | G19: 0 | H19: 0 | I19: 0 | J19: =G19+H19+I19 -> 0 | K19: =(J19/('Table I'!G11-'Table I'!G9)*100) -> 0 | L19: 0 | M19: 0 | N19: =L19+M19 -> 0 | O19: =(N19)/'Table I'!K11*100 -> 0 | P19: 0 | Q19: =(P19+J19)/(P29+'Table I'!G11-'Table I'!G9)*100 -> 0 | R19: 0 | S19: 0 | T19: 0 | U19: 0 | V19: 0
B20: (d) | C20: Any Other (Specity) | F20: 0 | G20: 0 | H20: 0 | I20: 0 | J20: =G20+H20+I20 -> 0 | K20: =(J20/('Table I'!G11-'Table I'!G9)*100) -> 0 | L20: 0 | M20: 0 | N20: =L20+M20 -> 0 | O20: =(N20)/'Table I'!K11*100 -> 0 | P20: 0 | Q20: =(P20+J20)/(P29+'Table I'!G11-'Table I'!G9)*100 -> 0 | R20: 0 | S20: 0 | T20: 0 | U20: 0 | V20: 0
C21: Sub Total (A)(1) | F21: 10 | G21: =G7+G18+G19+G20 -> 7406400 | H21: =H7+H18+H19+H20 -> 0 | I21: =I7+I18+I19+I20 -> 0 | J21: =G21+H21+I21 -> 7406400 | K21: =(J21/('Table I'!G11-'Table I'!G9)*100) -> 71.767442 | L21: =L7+L18+L19+L20 -> 7406400 | M21: =M7+M18+M19+M20 -> 0 | N21: =L21+M21 -> 7406400 | O21: =(N21)/'Table I'!K11*100 -> 71.767442 | P21: =P7+P18+P19+P20 -> 0 | Q21: =(P21+J21)/(P29+'Table I'!G11-'Table I'!G9)*100 -> 71.767442 | R21: =R7+R18+R19+R20 -> 0 | S21: =(R21)/'Table I'!G6*100 -> 0 | T21: =T7+T18+T19+T20 -> 0 | U21: =(T21)/'Table I'!G6*100 -> 0 | V21: =V7+V18+V19+V20 -> 7406400
A22: 2 | C22: Foreign | J22: =G22+H22+I22 -> 0 | K22: =(J22/('Table I'!G11-'Table I'!G9)*100) -> 0 | N22: =L22+M22 -> 0 | O22: =(N22)/'Table I'!K11*100 -> 0 | Q22: =(P22+J22)/(P29+'Table I'!G11-'Table I'!G9)*100 -> 0 | S22: 0 | U22: 0
B23: (a) | C23: Individual/Non Resident Individual/Foreign Individual | F23: 0 | G23: 0 | H23: 0 | I23: 0 | J23: =G23+H23+I23 -> 0 | K23: =(J23/('Table I'!G11-'Table I'!G9)*100) -> 0 | L23: 0 | M23: 0 | N23: =L23+M23 -> 0 | O23: =(N23)/'Table I'!K11*100 -> 0 | P23: 0 | Q23: =(P23+J23)/(P29+'Table I'!G11-'Table I'!G9)*100 -> 0 | R23: 0 | S23: 0 | T23: 0 | U23: 0 | V23: 0
B24: (b) | C24: Government | F24: 0 | G24: 0 | H24: 0 | I24: 0 | J24: =G24+H24+I24 -> 0 | K24: =(J24/('Table I'!G11-'Table I'!G9)*100) -> 0 | L24: 0 | M24: 0 | N24: =L24+M24 -> 0 | O24: =(N24)/'Table I'!K11*100 -> 0 | P24: 0 | Q24: =(P24+J24)/(P29+'Table I'!G11-'Table I'!G9)*100 -> 0 | R24: 0 | S24: 0 | T24: 0 | U24: 0 | V24: 0
B25: (c) | C25: Institutions | F25: 0 | G25: 0 | H25: 0 | I25: 0 | J25: =G25+H25+I25 -> 0 | K25: =(J25/('Table I'!G11-'Table I'!G9)*100) -> 0 | L25: 0 | M25: 0 | N25: =L25+M25 -> 0 | O25: =(N25)/'Table I'!K11*100 -> 0 | P25: 0 | Q25: =(P25+J25)/(P29+'Table I'!G11-'Table I'!G9)*100 -> 0 | R25: 0 | S25: 0 | T25: 0 | U25: 0 | V25: 0
B26: (d) | C26: Foreign Portfolio Investor | F26: 0 | G26: 0 | H26: 0 | I26: 0 | J26: =G26+H26+I26 -> 0 | K26: =(J26/('Table I'!G11-'Table I'!G9)*100) -> 0 | L26: 0 | M26: 0 | N26: =L26+M26 -> 0 | O26: =(N26)/'Table I'!K11*100 -> 0 | P26: 0 | Q26: =(P26+J26)/(P29+'Table I'!G11-'Table I'!G9)*100 -> 0 | R26: 0 | S26: 0 | T26: 0 | U26: 0 | V26: 0
B27: (e) | C27: Any Other (Specity) | F27: 0 | G27: 0 | H27: 0 | I27: 0 | J27: =G27+H27+I27 -> 0 | K27: =(J27/('Table I'!G11-'Table I'!G9)*100) -> 0 | L27: 0 | M27: 0 | N27: =L27+M27 -> 0 | O27: =(N27)/'Table I'!K11*100 -> 0 | P27: 0 | Q27: =(P27+J27)/(P29+'Table I'!G11-'Table I'!G9)*100 -> 0 | R27: 0 | S27: 0 | T27: 0 | U27: 0 | V27: 0
C28: Sub Total (A)(2) | F28: 0 | G28: =+G23+G24+G25+G26+G27 -> 0 | H28: =+H23+H24+H25+H26+H27 -> 0 | I28: =+I23+I24+I25+I26+I27 -> 0 | J28: =G28+H28+I28 -> 0 | K28: =(J28/('Table I'!G11-'Table I'!G9)*100) -> 0 | L28: =+L23+L24+L25+L26+L27 -> 0 | M28: =+M23+M24+M25+M26+M27 -> 0 | N28: =L28+M28 -> 0 | O28: =(N28)/'Table I'!K11*100 -> 0 | P28: =+P23+P24+P25+P26+P27 -> 0 | Q28: =(P28+J28)/(P29+'Table I'!G11-'Table I'!G9)*100 -> 0 | R28: =+R23+R24+R25+R26+R27 -> 0 | S28: 0 | T28: =+T23+T24+T25+T26+T27 -> 0 | U28: 0 | V28: =+V23+V24+V25+V26+V27 -> 0
C29: Total Shareholding of Promoter and Promoter Group (A)= (A)(1)+(A)(2) | F29: 10 | G29: =G21+G28 -> 7406400 | H29: =H21+H28 -> 0 | I29: =I21+I28 -> 0 | J29: =J21+J28 -> 7406400 | K29: =K21+K28 -> 71.767442 | L29: =L21+L28 -> 7406400 | M29: =M21+M28 -> 0 | N29: =N21+N28 -> 7406400 | ... V29: =V21+V28 -> 7406400

Sheet Table III
A1: Table III - Statement showing shareholding pattern of the Public shareholder
C2: Category & Name of the Shareholders | D2: PAN | E2: Nos. of shareh older | F2: No. of fully paid up equity shares held | G2: Partly paid-up equity shares held | H2: Nos. of shares underlying Depository Receipts | I2: Total nos. shares held | J2: Sharehol ding % calculate d as per SCRR, 1957 As a % of (A+B+C2) | K2: Number of Voting Rights held in each class of securities | O2: No. of Shares Underlying Outstanding convertible securities (including Warrants) | P2: Total shareholding, as a % assuming full conversion of convertible securities (as a percentage of diluted share capital) | Q2: Number of Locked in shares | S2: Number of Shares pledged or otherwise encumbered | U2: Number of equity shares held in dematerializ ed form
K3: No of Voting Rights | N3: Total as a % of Total Voting rights | Q3: No. (a) | R3: As a % of total Shar es held (b) | S3: No. (Not applicable) (a) | T3: As a % of total shares held (Not applic able) (b)
K4: Class X | L4: Class Y | M4: Total
C5: (I) | D5: (II) | E5: (III) | F5: (IV) | G5: (V) | H5: (VI) | I5: (VII)=(IV)+(V)+(VI) | J5: (VIII) | K5: (IX) | O5: (X) | P5: (XI)= (VII)+(X) | Q5: (XII) | S5: (XIII) | U5: (XIV)
A6: 1 | C6: Institutions
B7: (a) | C7: Mutual Fund | E7: 0 | F7: 0 | G7: 0 | I7: =F7+G7+H7 -> 0 | J7: =(I7/('Table I'!G11-'Table I'!G9)*100) -> 0 | K7: 0 | M7: =K7+L7 -> 0 | N7: =(M7)/'Table I'!K11*100 -> 0 | O7: 0 | P7: =(O7+I7)/(O42+'Table I'!G11-'Table I'!G9)*100 -> 0 | Q7: 0 | R7: =(Q7)/'Table I'!G7*100 -> 0 | S7: 0 | T7: =(S7)/'Table I'!G7*100 -> 0 | U7: 0
B8: (b) | C8: Venture Capital Funds | E8: 0 | F8: 0 | G8: 0 | I8: =F8+G8+H8 -> 0 | J8: =(I8/('Table I'!G11-'Table I'!G9)*100) -> 0 | K8: 0 | M8: =K8+L8 -> 0 | N8: =(M8)/'Table I'!K11*100 -> 0 | O8: 0 | P8: =(O8+I8)/(O42+'Table I'!G11-'Table I'!G9)*100 -> 0 | Q8: 0 | R8: =(Q8)/'Table I'!G7*100 -> 0 | S8: 0 | T8: =(S8)/'Table I'!G7*100 -> 0 | U8: 0
B9: (c) | C9: Alternate Investment Funds | E9: 0 | F9: 0 | G9: 0 | I9: =F9+G9+H9 -> 0 | J9: =(I9/('Table I'!G11-'Table I'!G9)*100) -> 0 | K9: 0 | M9: =K9+L9 -> 0 | N9: =(M9)/'Table I'!K11*100 -> 0 | O9: 0 | P9: =(O9+I9)/(O42+'Table I'!G11-'Table I'!G9)*100 -> 0 | Q9: 0 | R9: =(Q9)/'Table I'!G7*100 -> 0 | S9: 0 | T9: =(S9)/'Table I'!G7*100 -> 0 | U9: 0
B10: (d) | C10: Foreign Venture Capital Investor | E10: 0 | F10: 0 | G10: 0 | I10: =F10+G10+H10 -> 0 | J10: =(I10/('Table I'!G11-'Table I'!G9)*100) -> 0 | K10: 0 | M10: =K10+L10 -> 0 | N10: =(M10)/'Table I'!K11*100 -> 0 | O10: 0 | P10: =(O10+I10)/(O42+'Table I'!G11-'Table I'!G9)*100 -> 0 | Q10: 0 | R10: =(Q10)/'Table I'!G7*100 -> 0 | S10: 0 | T10: =(S10)/'Table I'!G7*100 -> 0 | U10: 0
B11: (e) | C11: Foreign Portfolio Investors | E11: 0 | F11: 0 | G11: 0 | I11: =F11+G11+H11 -> 0 | J11: =(I11/('Table I'!G11-'Table I'!G9)*100) -> 0 | K11: 0 | M11: =K11+L11 -> 0 | N11: =(M11)/'Table I'!K11*100 -> 0 | O11: 0 | P11: =(O11+I11)/(O42+'Table I'!G11-'Table I'!G9)*100 -> 0 | Q11: 0 | R11: =(Q11)/'Table I'!G7*100 -> 0 | S11: 0 | T11: =(S11)/'Table I'!G7*100 -> 0 | U11: 0
B12: (f) | C12: Financial Institutions/Banks | E12: 0 | F12: 0 | G12: 0 | I12: =F12+G12+H12 -> 0 | J12: =(I12/('Table I'!G11-'Table I'!G9)*100) -> 0 | K12: 0 | M12: =K12+L12 -> 0 | N12: =(M12)/'Table I'!K11*100 -> 0 | O12: 0 | P12: =(O12+I12)/(O42+'Table I'!G11-'Table I'!G9)*100 -> 0 | Q12: 0 | R12: =(Q12)/'Table I'!G7*100 -> 0 | S12: 0 | T12: =(S12)/'Table I'!G7*100 -> 0 | U12: 0
B13: (g) | C13: Insurance Companies | E13: 0 | F13: 0 | G13: 0 | I13: =F13+G13+H13 -> 0 | J13: =(I13/('Table I'!G11-'Table I'!G9)*100) -> 0 | K13: 0 | M13: =K13+L13 -> 0 | N13: =(M13)/'Table I'!K11*100 -> 0 | O13: 0 | P13: =(O13+I13)/(O42+'Table I'!G11-'Table I'!G9)*100 -> 0 | Q13: 0 | R13: =(Q13)/'Table I'!G7*100 -> 0 | S13: 0 | T13: =(S13)/'Table I'!G7*100 -> 0 | U13: 0
B14: (h) | C14: Providend Fund/Pensions Funds | E14: 0 | F14: 0 | G14: 0 | I14: =F14+G14+H14 -> 0 | J14: =(I14/('Table I'!G11-'Table I'!G9)*100) -> 0 | K14: 0 | M14: =K14+L14 -> 0 | N14: =(M14)/'Table I'!K11*100 -> 0 | O14: 0 | P14: =(O14+I14)/(O42+'Table I'!G11-'Table I'!G9)*100 -> 0 | Q14: 0 | R14: =(Q14)/'Table I'!G7*100 -> 0 | S14: 0 | T14: =(S14)/'Table I'!G7*100 -> 0 | U14: 0
B15: (i) | C15: Any Other Specify | E15: 0 | F15: 0 | G15: 0 | I15: =F15+G15+H15 -> 0 | J15: =(I15/('Table I'!G11-'Table I'!G9)*100) -> 0 | K15: 0 | M15: =K15+L15 -> 0 | N15: =(M15)/'Table I'!K11*100 -> 0 | O15: 0 | P15: =(O15+I15)/(O42+'Table I'!G11-'Table I'!G9)*100 -> 0 | Q15: 0 | R15: =(Q15)/'Table I'!G7*100 -> 0 | S15: 0 | T15: =(S15)/'Table I'!G7*100 -> 0 | U15: 0
C16: Sub Total (B)(1) | E16: =E7+E8+E9+E10+E11+E12+E13+E14+E15 -> 0 | F16: =F7+F8+F9+F10+F11+F12+F13+F14+F15 -> 0 | G16: =G7+G8+G9+G10+G11+G12+G13+G14+G15 -> 0 | H16: =H7+H8+H9+H10+H11+H12+H13+H14+H15 -> 0 | I16: =F16+G16+H16 -> 0 | J16: =(I16/('Table I'!G11-'Table I'!G9)*100) -> 0 | K16: =K7+K8+K9+K10+K11+K12+K13+K14+K15 -> 0 | L16: =L7+L8+L9+L10+L11+L12+L13+L14+L15 -> 0 | M16: =K16+L16 -> 0 | N16: =(M16)/'Table I'!K11*100 -> 0 | O16: =O7+O8+O9+O10+O11+O12+O13+O14+O15 -> 0 | P16: =(O16+I16)/(O42+'Table I'!G11-'Table I'!G9)*100 -> 0 | Q16: =Q7+Q8+Q9+Q10+Q11+Q12+Q13+Q14+Q15 -> 0 | R16: =(Q16)/'Table I'!G7*100 -> 0 | S16: =S7+S8+S9+S10+S11+S12+S13+S14+S15 -> 0 | T16: =(S16)/'Table I'!G7*100 -> 0 | U16: =U7+U8+U9+U10+U11+U12+U13+U14+U15 -> 0
A17: 2 | C17: Central Government/State Government/President of India | E17: 0 | F17: 0 | G17: 0 | I17: =F17+G17+H17 -> 0 | J17: =(I17/('Table I'!G11-'Table I'!G9)*100) -> 0 | K17: 0 | M17: =K17+L17 -> 0 | N17: =(M17)/'Table I'!K11*100 -> 0 | O17: 0 | P17: =(O17+I17)/(O42+'Table I'!G11-'Table I'!G9)*100 -> 0 | Q17: 0 | R17: =(Q17)/'Table I'!G7*100 -> 0 | S17: 0 | T17: =(S17)/'Table I'!G7*100 -> 0 | U17: 0
C18: Sub Total (B)(2) | E18: =+E17 -> 0 | F18: =+F17 -> 0 | G18: =+G17 -> 0 | H18: =+H17 -> 0 | I18: =F18+G18+H18 -> 0 | J18: =(I18/('Table I'!G11-'Table I'!G9)*100) -> 0 | K18: =+K17 -> 0 | L18: =+L17 -> 0 | M18: =K18+L18 -> 0 | N18: =(M18)/'Table I'!K11*100 -> 0 | O18: =+O17 -> 0 | P18: =(O18+I18)/(O42+'Table I'!G11-'Table I'!G9)*100 -> 0 | Q18: =+Q17 -> 0 | R18: =(Q18)/'Table I'!G7*100 -> 0 | S18: =+S17 -> 0 | T18: =(S18)/'Table I'!G7*100 -> 0 | U18: =+U17 -> 0
A19: 3 | C19: Non-Institutions
B20: (a) | C20: 1. Individual Shareholders holding Nominal Share Capital Up to 2 Lacs | E20: 161 | F20: 616000 | G20: 0 | I20: =F20+G20+H20 -> 616000 | J20: =(I20/('Table I'!G11-'Table I'!G9)*100) -> 5.9689922 | K20: 616000 | M20: =K20+L20 -> 616000 | N20: =(M20)/'Table I'!K11*100 -> 5.9689922 | O20: 0 | P20: =(O20+I20)/(O42+'Table I'!G11-'Table I'!G9)*100 -> 5.9689922 | Q20: 0 | R20: =(Q20)/'Table I'!G7*100 -> 0 | S20: 0 | T20: =(S20)/'Table I'!G7*100 -> 0 | U20: 615999
C21: 2. Individual Shareholders holding Nominal Share Capital Above 2 Lacs | E21: 12 | F21: 667180 | G21: 0 | I21: =F21+G21+H21 -> 667180 | J21: =(I21/('Table I'!G11-'Table I'!G9)*100) -> 6.4649225 | K21: 667180 | M21: =K21+L21 -> 667180 | N21: =(M21)/'Table I'!K11*100 -> 6.4649225 | O21: 0 | P21: =(O21+I21)/(O42+'Table I'!G11-'Table I'!G9)*100 -> 6.4649225 | Q21: 0 | R21: =(Q21)/'Table I'!G7*100 -> 0 | S21: 0 | T21: =(S21)/'Table I'!G7*100 -> 0 | U21: 667180
C22: ROHIT SHARMA | D22: APZPS0344H | F22: 103200 | G22: 0 | I22: =F22+G22+H22 -> 103200 | J22: =(I22/('Table I'!G11-'Table I'!G9)*100) -> 1 | K22: 103200 | M22: =K22+L22 -> 103200 | N22: =(M22)/'Table I'!K11*100 -> 1 | O22: 0 | P22: =(O22+I22)/(O42+'Table I'!G11-'Table I'!G9)*100 -> 1 | Q22: 0 | R22: =(Q22)/'Table I'!G7*100 -> 0 | T22: =(S22)/'Table I'!G7*100 -> 0 | U22: 103200
B23: (b) | C23: NBFCs Registered with RBI | E23: 0 | F23: 0 | G23: 0 | I23: =F23+G23+H23 -> 0 | J23: =(I23/('Table I'!G11-'Table I'!G9)*100) -> 0 | K23: 0 | M23: =K23+L23 -> 0 | N23: =(M23)/'Table I'!K11*100 -> 0 | O23: 0 | P23: =(O23+I23)/(O42+'Table I'!G11-'Table I'!G9)*100 -> 0 | Q23: 0 | R23: =(Q23)/'Table I'!G7*100 -> 0 | S23: 0 | T23: =(S23)/'Table I'!G7*100 -> 0 | U23: 0
B24: (c) | C24: Employee Trusts | E24: 0 | F24: 0 | G24: 0 | I24: =F24+G24+H24 -> 0 | J24: =(I24/('Table I'!G11-'Table I'!G9)*100) -> 0 | K24: 0 | M24: =K24+L24 -> 0 | N24: =(M24)/'Table I'!K11*100 -> 0 | O24: 0 | P24: =(O24+I24)/(O42+'Table I'!G11-'Table I'!G9)*100 -> 0 | Q24: 0 | R24: =(Q24)/'Table I'!G7*100 -> 0 | S24: 0 | T24: =(S24)/'Table I'!G7*100 -> 0 | U24: 0
B25: (e) | C25: Any other (Specity) | E25: 0 | F25: 0 | G25: 0 | I25: =F25+G25+H25 -> 0 | J25: =(I25/('Table I'!G11-'Table I'!G9)*100) -> 0 | K25: 0 | M25: =K25+L25 -> 0 | N25: =(M25)/'Table I'!K11*100 -> 0 | O25: 0 | P25: =(O25+I25)/(O42+'Table I'!G11-'Table I'!G9)*100 -> 0 | Q25: 0 | R25: =(Q25)/'Table I'!G7*100 -> 0 | S25: 0 | T25: =(S25)/'Table I'!G7*100 -> 0 | U25: 0
B26: (e1) | C26: Bodies Corporate | E26: 12 | F26: 1503200 | G26: 0 | I26: =F26+G26+H26 -> 1503200 | J26: =(I26/('Table I'!G11-'Table I'!G9)*100) -> 14.565891 | K26: 1503200 | M26: =K26+L26 -> 1503200 | N26: =(M26)/'Table I'!K11*100 -> 14.565891 | O26: 0 | P26: =(O26+I26)/(O42+'Table I'!G11-'Table I'!G9)*100 -> 14.565891 | Q26: 0 | R26: =(Q26)/'Table I'!G7*100 -> 0 | S26: 0 | T26: =(S26)/'Table I'!G7*100 -> 0 | U26: 1503200
C27: SAAKSSHAAT INFOTECH PRIVATE LIMITED | D27: AAVCS8096G | F27: 492000 | G27: 0 | I27: =F27+G27+H27 -> 492000 | J27: =(I27/('Table I'!G11-'Table I'!G9)*100) -> 4.7674419 | K27: 492000 | M27: =K27+L27 -> 492000 | N27: =(M27)/'Table I'!K11*100 -> 4.7674419 | O27: 0 | P27: =(O27+I27)/(O42+'Table I'!G11-'Table I'!G9)*100 -> 4.7674419 | Q27: 0 | R27: =(Q27)/'Table I'!G7*100 -> 0 | T27: =(S27)/'Table I'!G7*100 -> 0 | U27: 492000
C28: REAL OUTSOURCING SERVICES PRIVATE LIMITED | D28: AAHCR0293C | F28: 458400 | G28: 0 | I28: =F28+G28+H28 -> 458400 | J28: =(I28/('Table I'!G11-'Table I'!G9)*100) -> 4.4418605 | K28: 458400 | M28: =K28+L28 -> 458400 | N28: =(M28)/'Table I'!K11*100 -> 4.4418605 | O28: 0 | P28: =(O28+I28)/(O42+'Table I'!G11-'Table I'!G9)*100 -> 4.4418605 | Q28: 0 | R28: =(Q28)/'Table I'!G7*100 -> 0 | T28: =(S28)/'Table I'!G7*100 -> 0 | U28: 458400
C29: AIRAN LIMITED | D29: AAACA9567D | F29: 187200 | G29: 0 | I29: =F29+G29+H29 -> 187200 | J29: =(I29/('Table I'!G11-'Table I'!G9)*100) -> 1.8139535 | K29: 187200 | M29: =K29+L29 -> 187200 | N29: =(M29)/'Table I'!K11*100 -> 1.8139535 | O29: 0 | P29: =(O29+I29)/(O42+'Table I'!G11-'Table I'!G9)*100 -> 1.8139535 | Q29: 0 | R29: =(Q29)/'Table I'!G7*100 -> 0 | T29: =(S29)/'Table I'!G7*100 -> 0 | U29: 187200
C30: LOANACHARYA CONSULTANTS | D30: AACCS2519P | F30: 146400 | G30: 0 | I30: =F30+G30+H30 -> 146400 | J30: =(I30/('Table I'!G11-'Table I'!G9)*100) -> 1.4186047 | K30: 146400 | M30: =K30+L30 -> 146400 | N30: =(M30)/'Table I'!K11*100 -> 1.4186047 | O30: 0 | P30: =(O30+I30)/(O42+'Table I'!G11-'Table I'!G9)*100 -> 1.4186047 | Q30: 0 | R30: =(Q30)/'Table I'!G7*100 -> 0 | T30: =(S30)/'Table I'!G7*100 -> 0 | U30: 146400
C31: CQUB INFOSYSTEMS PRIVATE LIMITED | D31: AAECC8692D | F31: 108000 | G31: 0 | I31: =F31+G31+H31 -> 108000 | J31: =(I31/('Table I'!G11-'Table I'!G9)*100) -> 1.0465116 | K31: 108000 | M31: =K31+L31 -> 108000 | N31: =(M31)/'Table I'!K11*100 -> 1.0465116 | O31: 0 | P31: =(O31+I31)/(O42+'Table I'!G11-'Table I'!G9)*100 -> 1.0465116 | Q31: 0 | R31: =(Q31)/'Table I'!G7*100 -> 0 | T31: =(S31)/'Table I'!G7*100 -> 0 | U31: 108000
B32: (e2) | C32: Non Resident Indians | E32: 0 | F32: 0 | G32: 0 | I32: =F32+G32+H32 -> 0 | J32: =(I32/('Table I'!G11-'Table I'!G9)*100) -> 0 | K32: 0 | M32: =K32+L32 -> 0 | N32: =(M32)/'Table I'!K11*100 -> 0 | O32: 0 | P32: =(O32+I32)/(O42+'Table I'!G11-'Table I'!G9)*100 -> 0 | Q32: 0 | R32: =(Q32)/'Table I'!G7*100 -> 0 | S32: 0 | T32: =(S32)/'Table I'!G7*100 -> 0 | U32: 0
B33: (e3) | C33: Resident Indian Huf | E33: 17 | F33: 98400 | G33: 0 | I33: =F33+G33+H33 -> 98400 | J33: =(I33/('Table I'!G11-'Table I'!G9)*100) -> 0.95348837 | K33: 98400 | M33: =K33+L33 -> 98400 | N33: =(M33)/'Table I'!K11*100 -> 0.95348837 | O33: 0 | P33: =(O33+I33)/(O42+'Table I'!G11-'Table I'!G9)*100 -> 0.95348837 | Q33: 0 | R33: =(Q33)/'Table I'!G7*100 -> 0 | S33: 0 | T33: =(S33)/'Table I'!G7*100 -> 0 | U33: 98400
B34: (e4) | C34: Trusts | E34: 0 | F34: 0 | G34: 0 | I34: =F34+G34+H34 -> 0 | J34: =(I34/('Table I'!G11-'Table I'!G9)*100) -> 0 | K34: 0 | M34: =K34+L34 -> 0 | N34: =(M34)/'Table I'!K11*100 -> 0 | O34: 0 | P34: =(O34+I34)/(O42+'Table I'!G11-'Table I'!G9)*100 -> 0 | Q34: 0 | R34: =(Q34)/'Table I'!G7*100 -> 0 | S34: 0 | T34: =(S34)/'Table I'!G7*100 -> 0 | U34: 0
B35: (e5) | C35: Clearing Members/House | E35: 2 | F35: 2420 | G35: 0 | I35: =F35+G35+H35 -> 2420 | J35: =(I35/('Table I'!G11-'Table I'!G9)*100) -> 0.023449612 | K35: 2420 | M35: =K35+L35 -> 2420 | N35: =(M35)/'Table I'!K11*100 -> 0.023449612 | O35: 0 | P35: =(O35+I35)/(O42+'Table I'!G11-'Table I'!G9)*100 -> 0.023449612 | Q35: 0 | R35: =(Q35)/'Table I'!G7*100 -> 0 | S35: 0 | T35: =(S35)/'Table I'!G7*100 -> 0 | U35: 2420
B36: (e6) | C36: Foreign Companies | E36: 0 | F36: 0 | G36: 0 | I36: =F36+G36+H36 -> 0 | J36: =(I36/('Table I'!G11-'Table I'!G9)*100) -> 0 | K36: 0 | M36: =K36+L36 -> 0 | N36: =(M36)/'Table I'!K11*100 -> 0 | O36: 0 | P36: =(O36+I36)/(O42+'Table I'!G11-'Table I'!G9)*100 -> 0 | Q36: 0 | R36: =(Q36)/'Table I'!G7*100 -> 0 | S36: 0 | T36: =(S36)/'Table I'!G7*100 -> 0 | U36: 0
B37: (e7) | C37: IEPF | E37: 0 | F37: 0 | G37: 0 | I37: =F37+G37+H37 -> 0 | J37: =(I37/('Table I'!G11-'Table I'!G9)*100) -> 0 | K37: 0 | M37: =K37+L37 -> 0 | N37: =(M37)/'Table I'!K11*100 -> 0 | O37: 0 | P37: =(O37+I37)/(O42+'Table I'!G11-'Table I'!G9)*100 -> 0 | Q37: 0 | R37: =(Q37)/'Table I'!G7*100 -> 0 | S37: 0 | T37: =(S37)/'Table I'!G7*100 -> 0 | U37: 0
B38: (e8) | C38: Escrow Account | E38: 0 | F38: 0 | G38: 0 | I38: =F38+G38+H38 -> 0 | J38: =(I38/('Table I'!G11-'Table I'!G9)*100) -> 0 | K38: 0 | M38: =K38+L38 -> 0 | N38: =(M38)/'Table I'!K11*100 -> 0 | O38: 0 | P38: =(O38+I38)/(O42+'Table I'!G11-'Table I'!G9)*100 -> 0 | Q38: 0 | R38: =(Q38)/'Table I'!G7*100 -> 0 | S38: 0 | T38: =(S38)/'Table I'!G7*100 -> 0 | U38: 0
B39: (e9) | C39: Firms | E39: 5 | F39: 26400 | G39: 0 | I39: =F39+G39+H39 -> 26400 | J39: =(I39/('Table I'!G11-'Table I'!G9)*100) -> 0.25581395 | K39: 26400 | M39: =K39+L39 -> 26400 | N39: =(M39)/'Table I'!K11*100 -> 0.25581395 | O39: 0 | P39: =(O39+I39)/(O42+'Table I'!G11-'Table I'!G9)*100 -> 0.25581395 | Q39: 0 | R39: =(Q39)/'Table I'!G7*100 -> 0 | S39: 0 | T39: =(S39)/'Table I'!G7*100 -> 0 | U39: 26400
B40: (e10) | C40: Others | E40: 0 | F40: 0 | G40: 0 | I40: =F40+G40+H40 -> 0 | J40: =(I40/('Table I'!G11-'Table I'!G9)*100) -> 0 | K40: 0 | M40: =K40+L40 -> 0 | N40: =(M40)/'Table I'!K11*100 -> 0 | O40: 0 | P40: =(O40+I40)/(O42+'Table I'!G11-'Table I'!G9)*100 -> 0 | Q40: 0 | R40: =(Q40)/'Table I'!G7*100 -> 0 | S40: 0 | T40: =(S40)/'Table I'!G7*100 -> 0 | U40: 0
...

Sheet Table IV
A1: Table IV - Statement showing shareholding pattern of the Non Promoter- Non Public shareholder
B2: Category & Name of the Shareholders | C2: PAN | D2: No. of shareholder | E2: No. of fully paid up equity shares held | F2: Partly paid-up equity shares held | G2: Nos. of shares underlying Depository Receipts | H2: Total no. shares held | I2: Sharehol ding % calculate d as per SCRR, 1957 As a % of (A+B+C2) | J2: Number of Voting Rights held in each class of securities | N2: No. of Shares Underlying Outstanding convertible securities (including Warrants) | O2: Total shareholding , as a % assuming full conversion of convertible securities (as a percentage of diluted share capital) | P2: Number of Locked in shares | R2: Number of Shares pledged or otherwise encumbered | T2: Number of equity shares held in dematerializ ed form (Not Applicable)
J3: No of Voting Rights | M3: Total as a % of Total Voting rights | P3: No. | Q3: As a % of total Shar es held | R3: No. (Not applicable) | S3: As a % of total share s held (Not applic able)
J4: Class X | K4: Class Y | L4: Total
B5: (I) | C5: (II) | D5: (III) | E5: (IV) | F5: (V) | G5: (VI) | H5: (VII)=(IV)+(V)+(VI) | I5: (VIII) | J5: (IX) | N5: (X) | O5: (XI)= (VII)+(X) | P5: (XII) | R5: (XIII) | T5: (XIV)
A6: C1 | B6: Custodian/DR Holder | D6: 0 | E6: 0 | F6: 0 | G6: 0 | H6: =E6+F6+G6 -> 0 | I6: =(H6/('Table I'!G11-'Table I'!G9)*100) -> 0 | J6: 0 | K6: 0 | L6: =J6+K6 -> 0 | M6: =(L6)/'Table I'!K11*100 -> 0 | N6: 0 | O6: =(N6+H6)/(N8+'Table I'!G11-'Table I'!G9)*100 -> 0 | P6: 0 | Q6: =(P6)/'Table I'!G11*100 -> 0 | R6: 0 | S6: =(R6)/'Table I'!G11*100 -> 0 | T6: 0
A7: C2 | B7: Employees Benefit Trust (Under SEBI (Share Based Employee Benefit Regulation 2014) | D7: 0 | E7: 0 | F7: 0 | G7: 0 | H7: =E7+F7+G7 -> 0 | I7: =(H7/('Table I'!G11-'Table I'!G9)*100) -> 0 | J7: 0 | K7: 0 | L7: =J7+K7 -> 0 | M7: =(L7)/'Table I'!K11*100 -> 0 | N7: 0 | O7: =(N7+H7)/(N8+'Table I'!G11-'Table I'!G9)*100 -> 0 | P7: 0 | Q7: =(P7)/'Table I'!G11*100 -> 0 | R7: 0 | S7: =(R7)/'Table I'!G11*100 -> 0 | T7: 0
B8: Total Non Promoter Non Public Shareholding (C)= (C)(1)+(C)(2) | D8: 0 | E8: =E6+E7 -> 0 | F8: =F6+F7 -> 0 | G8: =G6+G7 -> 0 | H8: =H6+H7 -> 0 | I8: =I6+I7 -> 0 | J8: =J6+J7 -> 0 | K8: =K6+K7 -> 0 | L8: =L6+L7 -> 0 | ... T8: =T6+T7 -> 0

Sheet Bodies_Corporate
A1: (e1) | B1: Bodies Corporate
A2: Sr.No | B2: Pan Number | C2: Name of Shareholders | D2: FP -Shares | E2: PP- Shares | F2: Total Shares | G2: %age | H2: Nom.Value | I2: Debentures | J2: Code | K2: Category
A3: 1 | B3: AAVCS8096G | C3: SAAKSSHAAT INFOTECH PRIVATE LIMITED | D3: 492000 | E3: 0 | F3: 492000 | G3: 4.7674 | H3: 4920000 | I3: 0 | J3: B3E1 | K3: LTD - BODIES CORPORATE-DOMESTIC
A4: 2 | B4: AAHCR0293C | C4: REAL OUTSOURCING SERVICES PRIVATE LIMITED | D4: 458400 | E4: 0 | F4: 458400 | G4: 4.4419 | H4: 4584000 | I4: 0 | J4: B3E1 | K4: LTD - BODIES CORPORATE-DOMESTIC
A5: 3 | B5: AAACA9567D | C5: AIRAN LIMITED | D5: 187200 | E5: 0 | F5: 187200 | G5: 1.814 | H5: 1872000 | I5: 0 | J5: B3E1 | K5: LTD - BODIES CORPORATE-DOMESTIC
A6: 4 | B6: AACCS2519P | C6: LOANACHARYA CONSULTANTS | D6: 146400 | E6: 0 | F6: 146400 | G6: 1.4186 | H6: 1464000 | I6: 0 | J6: B3E1 | K6: LTD - BODIES CORPORATE-DOMESTIC
A7: 5 | B7: AAECC8692D | C7: CQUB INFOSYSTEMS PRIVATE LIMITED | D7: 108000 | E7: 0 | F7: 108000 | G7: 1.0465 | H7: 1080000 | I7: 0 | J7: B3E1 | K7: LTD - BODIES CORPORATE-DOMESTIC
A8: 6 | B8: AAGCB0134P | C8: BEELINE BROKING LIMITED | D8: 64800 | E8: 0 | F8: 64800 | G8: 0.6279 | H8: 648000 | I8: 0 | J8: B3E1 | K8: LTD - BODIES CORPORATE-STOCK BROKER PROPRIETORY
A9: 7 | B9: ABBFA0727C | C9: AS FINALYSIS VENTURES LLP | D9: 21600 | E9: 0 | F9: 21600 | G9: 0.2093 | H9: 216000 | I9: 0 | J9: B3E1 | K9: LTD - BODIES CORPORATE -LIMITED LIABLITY PARTNERSHIP
A10: 8 | B10: AAJCB0780A | C10: BEELINE MERCHANT BANKING PRIVATE LIMITED | D10: 9600 | E10: 0 | F10: 9600 | G10: 0.093 | H10: 96000 | I10: 0 | J10: B3E1 | K10: LTD - BODIES CORPORATE-DOMESTIC
A11: 9 | B11: AAACN1797L | C11: NATIONAL STOCK EXCHANGE OF INDIA LIMITED | D11: 8000 | E11: 0 | F11: 8000 | G11: 0.0775 | H11: 80000 | I11: 0 | J11: B3E1 | K11: LTD - BODIES CORPORATE-DOMESTIC
A12: 10 | B12: AACCJ5572B | C12: AUMIT CAPITAL ADVISORS | D12: 2400 | E12: 0 | F12: 2400 | G12: 0.0233 | H12: 24000 | I12: 0 | J12: B3E1 | K12: LTD - BODIES CORPORATE-DOMESTIC
A13: 11 | B13: AABCA5667R | C13: AGENCIES RAJASTHAN PRIVATE LIMITED | D13: 2400 | E13: 0 | F13: 2400 | G13: 0.0233 | H13: 24000 | I13: 0 | J13: B3E1 | K13: LTD - BODIES CORPORATE-DOMESTIC
A14: 12 | B14: AAACR9172R | C14: PROLIFE INDUSTRIES LIMITED | D14: 2400 | E14: 0 | F14: 2400 | G14: 0.0233 | H14: 24000 | I14: 0 | J14: B3E1 | K14: LTD - BODIES CORPORATE-DOMESTIC
B15: Total | F15: 1503200 | G15: 14.5659 | H15: 15032000 | I15: 0

Sheet HUF
A1: (e3) | B1: HUF
A2: Sr.No | B2: Pan Number | C2: Name of Shareholders | D2: FP -Shares | E2: PP- Shares | F2: Total Shares | G2: %age | H2: Nom.Value | I2: Debentures | J2: Code | K2: Category
A3: 1 | B3: AAOHA0587J | C3: ADHEESH KABRA HUF . | D3: 24000 | E3: 0 | F3: 24000 | G3: 0.2326 | H3: 240000 | I3: 0 | J3: B3E3 | K3: HUF - RESIDENT HUF /APOS
A4: 2 | B4: AAKHA6644J | C4: ANIL AGRAWAL HUF . | D4: 19200 | E4: 0 | F4: 19200 | G4: 0.186 | H4: 192000 | I4: 0 | J4: B3E3 | K4: HUF - RESIDENT HUF /APOS
A5: 3 | B5: AABHC5046D | C5: CHIRAG PADSHAH HUF | D5: 12000 | E5: 0 | F5: 12000 | G5: 0.1163 | H5: 120000 | I5: 0 | J5: B3E3 | K5: HUF - HUF /APOS
A6: 4 | B6: AAUHA0967L | C6: ADITYA PRADIP DEORA HUF | D6: 4800 | E6: 0 | F6: 4800 | G6: 0.0465 | H6: 48000 | I6: 0 | J6: B3E3 | K6: HUF - RESIDENT HUF /APOS
A7: 5 | B7: AAOHR6173F | C7: RAJIB RANJAN HUF | D7: 4800 | E7: 0 | F7: 4800 | G7: 0.0465 | H7: 48000 | I7: 0 | J7: B3E3 | K7: HUF - HUF /APOS
A8: 6 | B8: AADHJ6313A | C8: JITENDRA KUMAR BANWARI LAL HUF . | D8: 4800 | E8: 0 | F8: 4800 | G8: 0.0465 | H8: 48000 | I8: 0 | J8: B3E3 | K8: HUF - RESIDENT HUF /APOS
A9: 7 | B9: AAAHY1778F | C9: YOGESH AGRAWAL (HUF) . | D9: 4800 | E9: 0 | F9: 4800 | G9: 0.0465 | H9: 48000 | I9: 0 | J9: B3E3 | K9: HUF - RESIDENT HUF /APOS
A10: 8 | B10: AANHP5008C | C10: PRADIP KUMAR AGRAWAL HUF | D10: 2400 | E10: 0 | F10: 2400 | G10: 0.0233 | H10: 24000 | I10: 0 | J10: B3E3 | K10: HUF - RESIDENT HUF /APOS
A11: 9 | B11: AAJHP5090G | C11: PRAGNESH ARVINDBHAI SHAH HUF . | D11: 2400 | E11: 0 | F11: 2400 | G11: 0.0233 | H11: 24000 | I11: 0 | J11: B3E3 | K11: HUF - RESIDENT HUF /APOS
A12: 10 | B12: AAHHS4209L | C12: BHAVARLAL HINDUJI SHAH HUF | D12: 2400 | E12: 0 | F12: 2400 | G12: 0.0233 | H12: 24000 | I12: 0 | J12: B3E3 | K12: HUF - HUF /APOS
A13: 11 | B13: AAHHJ9510M | C13: JIGNESH PITHIA HUF . | D13: 2400 | E13: 0 | F13: 2400 | G13: 0.0233 | H13: 24000 | I13: 0 | J13: B3E3 | K13: HUF - RESIDENT HUF /APOS
A14: 12 | B14: AAGHJ5626K | C14: JAYESH OTTAMCHAND MEHTA HUF | D14: 2400 | E14: 0 | F14: 2400 | G14: 0.0233 | H14: 24000 | I14: 0 | J14: B3E3 | K14: HUF - HUF /APOS
... A19: 17 | B19: AAAHO8296G | C19: OM PRAKASH MANTRY HUF . | D19: 2400 | E19: 0 | F19: 2400 | G19: 0.0233 | H19: 24000 | I19: 0 | J19: B3E3 | K19: HUF - RESIDENT HUF /APOS
B20: Total | F20: 98400 | G20: 0.9535 | H20: 984000 | I20: 0

Sheet Clearing_Members
A1: (e5) | B1: Clearing Members/House
A2: Sr.No | B2: Pan Number | C2: Name of Shareholders | D2: FP -Shares | E2: PP- Shares | F2: Total Shares | G2: %age | H2: Nom.Value | I2: Debentures | J2: Code | K2: Category
A3: 1 | B3: AABCM5192K | C3: MARWADI SHARES AND FINANCE LTD. | D3: 2400 | E3: 0 | F3: 2400 | G3: 0.0233 | H3: 24000 | I3: 0 | J3: B3E5 | K3: CM - CLEARING MEMBER
A4: 2 | B4: AAECS5096H | C4: SHAREKHAN LIMITED | D4: 20 | E4: 0 | F4: 20 | G4: 0.0002 | H4: 200 | I4: 0 | J4: B3E5 | K4: CM - CLEARING MEMBER
B5: Total | F5: 2420 | G5: 0.0234 | H5: 24200 | I5: 0

Sheet Public
A1: Individual Shareholders Holding Nominal Share Captial Above Rs. 2 Lac
A2: Sr.No | B2: Pan Number | C2: Name of Shareholders | D2: FP -Shares | E2: PP- Shares | F2: Total Shares | G2: %age | H2: Nom.Value | I2: Debentures | J2: Code | K2: Category
A3: 1 | B3: APZPS0344H | C3: ROHIT SHARMA | D3: 103200 | E3: 0 | F3: 103200 | G3: 1 | H3: 1032000 | I3: 0 | J3: B3A | K3: PUB - RESIDENT ORDINARY
A4: 2 | B4: BNGPP0338A | C4: AJAY KUMAR PANESAR | D4: 93600 | E4: 0 | F4: 93600 | G4: 0.907 | H4: 936000 | I4: 0 | J4: B3A | K4: PUB - RESIDENT INDIAN
A5: 3 | B5: AHSPP4460A | C5: KAMINIBEN KALPESHKUMAR PATEL | D5: 88800 | E5: 0 | F5: 88800 | G5: 0.8605 | H5: 888000 | I5: 0 | J5: B3A | K5: PUB - RESIDENT INDIAN
A6: 4 | B6: AXMPJ7037P | C6: ARVIND KUMAR JHA | D6: 62400 | E6: 0 | F6: 62400 | G6: 0.6047 | H6: 624000 | I6: 0 | J6: B3A | K6: PUB - RESIDENT ORDINARY
A7: 5 | B7: AFBPK3344M | C7: RANJANA KUMAR | D7: 62400 | E7: 0 | F7: 62400 | G7: 0.6047 | H7: 624000 | I7: 0 | J7: B3A | K7: PUB - RESIDENT ORDINARY
A8: 6 | B8: AFZPJ3612B | C8: SHYAM KUMAR JHA | D8: 55200 | E8: 0 | F8: 55200 | G8: 0.5349 | H8: 552000 | I8: 0 | J8: B3A | K8: PUB - RESIDENT ORDINARY
A9: 7 | B9: AKWPM5780F | C9: YOGESH MISHRA | D9: 45600 | E9: 0 | F9: 45600 | G9: 0.4419 | H9: 456000 | I9: 0 | J9: B3A | K9: PUB - RESIDENT INDIVIDUAL-NEGATIVE NOMINATIONS
A10: 8 | B10: BBGPS3686A | C10: ANISH SRIVASTAVA | D10: 36000 | E10: 0 | F10: 36000 | G10: 0.3488 | H10: 360000 | I10: 0 | J10: B3A | K10: PUB - RESIDENT ORDINARY
A11: 9 | B11: BADPS8713G | C11: SHAH MALAV HARSHAD | D11: 36000 | E11: 0 | F11: 36000 | G11: 0.3488 | H11: 360000 | I11: 0 | J11: B3A | K11: PUB - RESIDENT INDIAN
A12: 10 | B12: AACPO6709J | C12: ANIL KUMAR OJHA | D12: 33600 | E12: 0 | F12: 33600 | G12: 0.3256 | H12: 336000 | I12: 0 | J12: B3A | K12: PUB - RESIDENT INDIAN
A13: 11 | B13: AOMPJ3678M | C13: HIMANSHU JHA | D13: 26380 | E13: 0 | F13: 26380 | G13: 0.2556 | H13: 263800 | I13: 0 | J13: B3A | K13: PUB - RESIDENT INDIAN
A14: 12 | B14: ANLPD1916A | C14: PRIYANKA NISHIT SHAH | D14: 24000 | E14: 0 | F14: 24000 | G14: 0.2326 | H14: 240000 | I14: 0 | J14: B3A | K14: PUB - RESIDENT INDIAN
B15: Total | F15: 667180 | G15: 6.4649 | H15: 6671800 | I15: 0

Sheet Firms
A1: (e6) | B1: Firms
A2: Sr.No | B2: Pan Number | C2: Name of Shareholders | D2: FP -Shares | E2: PP- Shares | F2: Total Shares | G2: %age | H2: Nom.Value | I2: Debentures | J2: Code | K2: Category
A3: 1 | B3: ABKFA4671N | C3: SUNNY KANTILAL SOLANKI | D3: 16800 | E3: 0 | F3: 16800 | G3: 0.1628 | H3: 168000 | I3: 0 | J3: B3E9 | K3: PUB - RESIDENT INDIAN
A4: 2 | B4: AAYFM7740H | C4: MAHENDRA JAYANTILAL SHAH | D4: 2400 | E4: 0 | F4: 2400 | G4: 0.0233 | H4: 24000 | I4: 0 | J4: B3E9 | K4: PUB - RESIDENT INDIAN
A5: 3 | B5: AATFP6974D | C5: DIPAKKUMAR BHIKHUJI CHAVDA | D5: 2400 | E5: 0 | F5: 2400 | G5: 0.0233 | H5: 24000 | I5: 0 | J5: B3E9 | K5: PUB - RESIDENT INDIAN
A6: 4 | B6: AAJFD4160F | C6: VIPUL DHIRAJLAL SHAH | D6: 2400 | E6: 0 | F6: 2400 | G6: 0.0233 | H6: 24000 | I6: 0 | J6: B3E9 | K6: PUB - RESIDENT INDIAN
A7: 5 | B7: AAFFV4182R | C7: KALPA SACHIN SHAH | D7: 2400 | E7: 0 | F7: 2400 | G7: 0.0233 | H7: 24000 | I7: 0 | J7: B3E9 | K7: PUB - RESIDENT INDIVIDUAL-NEGATIVE NOMINATIONS
B8: Total | F8: 26400 | G8: 0.2558 | H8: 264000 | I8: 0

Sheet Distribution of Holding
A1: RELIABLE DATA SERVICES LTD
A3: DISTRIBUTION OF 10320000 EQUITY SHARE CAPITAL AS ON :30/09/2021
A4: PAN CONSOLIDATION
A5: Share or Debenture holding Nominal Value | B5: Number of Shareholders | C5: % to Total Numbers | D5: Share or Debenture holding Amount | E5: % to Total Amount
A6: (Rs.) | D6: (Rs.)
A7: 1 | B7: 2 | C7: 3 | D7: 4 | E7: 5
A8: Up To 5,000 | B8: 2 | C8: 0.91 | D8: 210 | E8: 0
A9: 5001 To 10,000 | B9: 0 | C9: 0 | D9: 0 | E9: 0
A10: 10001 To 20,000 | B10: 1 | C10: 0.46 | D10: 16000 | E10: 0.02
A11: 20001 To 30,000 | B11: 138 | C11: 63.01 | D11: 3312000 | E11: 3.21
A12: 30001 To 40,000 | B12: 0 | C12: 0 | D12: 0 | E12: 0
A13: 40001 To 50,000 | B13: 22 | C13: 10.05 | D13: 1056000 | E13: 1.02
A14: 50001 To 1,00,000 | B14: 13 | C14: 5.94 | D14: 1111990 | E14: 1.08
A15: 1,00,000 and Above | B15: 43 | C15: 19.63 | D15: 97703800 | E15: 94.67
A16: Total | B16: 219 | C16: 100 | D16: 103200000 | E16: 100
A21: PAN CONSOLIDATION
A22: No. of Shares or Debentures | B22: Number of Shareholders | C22: % to Total Numbers | D22: Share or Debenture Held | E22: % to Holding
A23: 1 | B23: 2 | C23: 3 | D23: 4 | E23: 5
A24: Up To 500 | B24: 2 | C24: 0.91 | D24: 21 | E24: 0
A25: 501 To 1000 | B25: 0 | C25: 0 | D25: 0 | E25: 0
A26: 1001 To 2000 | B26: 1 | C26: 0.46 | D26: 1600 | E26: 0.02
A27: 2001 To 3000 | B27: 138 | C27: 63.01 | D27: 331200 | E27: 3.21
A28: 3001 To 4000 | B28: 0 | C28: 0 | D28: 0 | E28: 0
A29: 4001 To 5000 | B29: 22 | C29: 10.05 | D29: 105600 | E29: 1.02
A30: 5001 To 10000 | B30: 13 | C30: 5.94 | D30: 111199 | E30: 1.08
A31: 10000 and Above | B31: 43 | C31: 19.63 | D31: 9770380 | E31: 94.67
A32: Total | B32: 219 | C32: 100 | D32: 10320000 | E32: 100
A37: WITHOUT PAN CONSOLIDATION
A38: Share or Debenture holding Nominal Value | B38: Number of Shareholders | C38: % to Total Numbers | D38: Share or Debenture holding Amount | E38: % to Total Amount
A39: (Rs.) | D39: (Rs.)
A40: 1 | B40: 2 | C40: 3 | D40: 4 | E40: 5
A41: Up To 5,000 | B41: 2 | C41: 0.89 | D41: 210 | E41: 0
A42: 5001 To 10,000 | B42: 0 | C42: 0 | D42: 0 | E42: 0
A43: 10001 To 20,000 | B43: 1 | C43: 0.44 | D43: 16000 | E43: 0.02
A44: 20001 To 30,000 | B44: 142 | C44: 63.11 | D44: 3408000 | E44: 3.3
A45: 30001 To 40,000 | B45: 0 | C45: 0 | D45: 0 | E45: 0
A46: 40001 To 50,000 | B46: 21 | C46: 9.33 | D46: 1008000 | E46: 0.98
A47: 50001 To 1,00,000 | B47: 13 | C47: 5.78 | D47: 1087990 | E47: 1.05
A48: 1,00,000 and Above | B48: 46 | C48: 20.44 | D48: 97679800 | E48: 94.65
A49: Total | B49: 225 | C49: 100 | D49: 103200000 | E49: 100
...

Sheet Table V
A1: Table V - Statement Showing Details of Significant beneficial Owners (SBOs)
A2: Sr .No. | B2: Details of the SBO | E2: Details of the Registered Owner | H2: Details of Holding/ exercise of right of the SBO in the reporting company, Whether direct or Indirect | K2: Date of creation / acquisition of significant beneficial interest
B3: ( I ) | E3: ( II ) | H3: ( III ) | K3: ( IV )
B4: Name | C4: PAN/Passport No. in case of a foreign national | D4: Nationality | E4: Name | F4: PAN/Passport No. in case of a foreign national | G4: Nationality | H4: Whether by Virtue of :
H5: Shares | J5: %
H6: Voting Righrs | J6: %
H7: Rights of distributable dividend or any other distribution | J7: %
H8: Exercise of control
H9: Exercise of significant influence
A17: * In case the nature of the holding/ exercise of the right of a SBO falls under multiple categories specified under (a) to (e) under Column III, multiple rows for the same SBO shall be inserted ....accordingly for each of the categories.
A18: * This column shall have the details as specified by the listed entity under Form No. BEN-2 as submitted to the Registrar.
